BEGIN:VCALENDAR
VERSION:2.0
PRODID:-//MDVGA - ECPv6.15.20//NONSGML v1.0//EN
CALSCALE:GREGORIAN
METHOD:PUBLISH
X-WR-CALNAME:MDVGA
X-ORIGINAL-URL:https://www.mdvetgolf.org
X-WR-CALDESC:Events for MDVGA
REFRESH-INTERVAL;VALUE=DURATION:PT1H
X-Robots-Tag:noindex
X-PUBLISHED-TTL:PT1H
BEGIN:VTIMEZONE
TZID:UTC
BEGIN:STANDARD
TZOFFSETFROM:+0000
TZOFFSETTO:+0000
TZNAME:UTC
DTSTART:20220101T000000
END:STANDARD
END:VTIMEZONE
BEGIN:VEVENT
DTSTART;TZID=UTC:20231113T080000
DTEND;TZID=UTC:20231119T170000
DTSTAMP:20260423T014524
CREATED:20231113T220654Z
LAST-MODIFIED:20231113T220654Z
UID:22754-1699862400-1700413200@www.mdvetgolf.org
SUMMARY:Bookings Now Open - Riversdale
DESCRIPTION:
URL:https://www.mdvetgolf.org/event/bookings-now-open-riversdale/
END:VEVENT
END:VCALENDAR