BEGIN:VCALENDAR
VERSION:2.0
PRODID:-//MDVGA - ECPv6.15.20//NONSGML v1.0//EN
CALSCALE:GREGORIAN
METHOD:PUBLISH
X-WR-CALNAME:MDVGA
X-ORIGINAL-URL:https://www.mdvetgolf.org
X-WR-CALDESC:Events for MDVGA
REFRESH-INTERVAL;VALUE=DURATION:PT1H
X-Robots-Tag:noindex
X-PUBLISHED-TTL:PT1H
BEGIN:VTIMEZONE
TZID:UTC
BEGIN:STANDARD
TZOFFSETFROM:+0000
TZOFFSETTO:+0000
TZNAME:UTC
DTSTART:20230101T000000
END:STANDARD
END:VTIMEZONE
BEGIN:VEVENT
DTSTART;TZID=UTC:20240226T170000
DTEND;TZID=UTC:20240303T170000
DTSTAMP:20260422T163340
CREATED:20240220T014606Z
LAST-MODIFIED:20240220T014607Z
UID:22900-1708966800-1709485200@www.mdvetgolf.org
SUMMARY:Bookings Open - The Heritage St Johns Course
DESCRIPTION:
URL:https://www.mdvetgolf.org/event/bookings-open-the-heritage-st-johns-course/
END:VEVENT
END:VCALENDAR