BEGIN:VCALENDAR
VERSION:2.0
PRODID:-//MDVGA - ECPv6.15.20//NONSGML v1.0//EN
CALSCALE:GREGORIAN
METHOD:PUBLISH
X-ORIGINAL-URL:https://www.mdvetgolf.org
X-WR-CALDESC:Events for MDVGA
REFRESH-INTERVAL;VALUE=DURATION:PT1H
X-Robots-Tag:noindex
X-PUBLISHED-TTL:PT1H
BEGIN:VTIMEZONE
TZID:UTC
BEGIN:STANDARD
TZOFFSETFROM:+0000
TZOFFSETTO:+0000
TZNAME:UTC
DTSTART:20230101T000000
END:STANDARD
END:VTIMEZONE
BEGIN:VEVENT
DTSTART;TZID=UTC:20240624T170000
DTEND;TZID=UTC:20240701T170000
DTSTAMP:20260422T112523
CREATED:20240617T064543Z
LAST-MODIFIED:20240617T064544Z
UID:23036-1719248400-1719853200@www.mdvetgolf.org
SUMMARY:Bookings Open - Yarra Yarra
DESCRIPTION:
URL:https://www.mdvetgolf.org/event/bookings-open-yarra-yarra-4/
END:VEVENT
END:VCALENDAR