BEGIN:VCALENDAR
VERSION:2.0
PRODID:-//MDVGA - ECPv6.15.20//NONSGML v1.0//EN
CALSCALE:GREGORIAN
METHOD:PUBLISH
X-ORIGINAL-URL:https://www.mdvetgolf.org
X-WR-CALDESC:Events for MDVGA
REFRESH-INTERVAL;VALUE=DURATION:PT1H
X-Robots-Tag:noindex
X-PUBLISHED-TTL:PT1H
BEGIN:VTIMEZONE
TZID:UTC
BEGIN:STANDARD
TZOFFSETFROM:+0000
TZOFFSETTO:+0000
TZNAME:UTC
DTSTART:20230101T000000
END:STANDARD
END:VTIMEZONE
BEGIN:VEVENT
DTSTART;TZID=UTC:20241107T080000
DTEND;TZID=UTC:20241110T170000
DTSTAMP:20260421T194026
CREATED:20241107T034502Z
LAST-MODIFIED:20241107T034503Z
UID:23238-1730966400-1731258000@www.mdvetgolf.org
SUMMARY:Bookings now open - Rosebud Country Club North Course
DESCRIPTION:
URL:https://www.mdvetgolf.org/event/bookings-now-open-rosebud-country-club-north-course/
END:VEVENT
END:VCALENDAR