BEGIN:VCALENDAR
VERSION:2.0
PRODID:-//MDVGA - ECPv6.15.20//NONSGML v1.0//EN
CALSCALE:GREGORIAN
METHOD:PUBLISH
X-WR-CALNAME:MDVGA
X-ORIGINAL-URL:https://www.mdvetgolf.org
X-WR-CALDESC:Events for MDVGA
REFRESH-INTERVAL;VALUE=DURATION:PT1H
X-Robots-Tag:noindex
X-PUBLISHED-TTL:PT1H
BEGIN:VTIMEZONE
TZID:UTC
BEGIN:STANDARD
TZOFFSETFROM:+0000
TZOFFSETTO:+0000
TZNAME:UTC
DTSTART:20240101T000000
END:STANDARD
END:VTIMEZONE
BEGIN:VEVENT
DTSTART;TZID=UTC:20250526T073000
DTEND;TZID=UTC:20250526T143000
DTSTAMP:20260419T131007
CREATED:20250501T023112Z
LAST-MODIFIED:20250501T023113Z
UID:23683-1748244600-1748269800@www.mdvetgolf.org
SUMMARY:Cranbourne Golf Club
DESCRIPTION:Membership Incentive Program – 2 for 1
URL:https://www.mdvetgolf.org/event/cranbourne-golf-club/
END:VEVENT
END:VCALENDAR