BEGIN:VCALENDAR
VERSION:2.0
PRODID:-//MDVGA - ECPv6.15.20//NONSGML v1.0//EN
CALSCALE:GREGORIAN
METHOD:PUBLISH
X-WR-CALNAME:MDVGA
X-ORIGINAL-URL:https://www.mdvetgolf.org
X-WR-CALDESC:Events for MDVGA
REFRESH-INTERVAL;VALUE=DURATION:PT1H
X-Robots-Tag:noindex
X-PUBLISHED-TTL:PT1H
BEGIN:VTIMEZONE
TZID:UTC
BEGIN:STANDARD
TZOFFSETFROM:+0000
TZOFFSETTO:+0000
TZNAME:UTC
DTSTART:20250101T000000
END:STANDARD
END:VTIMEZONE
BEGIN:VEVENT
DTSTART;TZID=UTC:20260119T073000
DTEND;TZID=UTC:20260119T143000
DTSTAMP:20260420T053014
CREATED:20251212T004131Z
LAST-MODIFIED:20251212T004544Z
UID:23843-1768807800-1768833000@www.mdvetgolf.org
SUMMARY:Melb Vs Hume vets (held at Northern Golf Club)
DESCRIPTION:
URL:https://www.mdvetgolf.org/event/melb-vs-hume-vets-held-at-northern-golf-club/
END:VEVENT
END:VCALENDAR