BEGIN:VCALENDAR
VERSION:2.0
PRODID:-//MDVGA - ECPv6.15.20//NONSGML v1.0//EN
CALSCALE:GREGORIAN
METHOD:PUBLISH
X-WR-CALNAME:MDVGA
X-ORIGINAL-URL:https://www.mdvetgolf.org
X-WR-CALDESC:Events for MDVGA
REFRESH-INTERVAL;VALUE=DURATION:PT1H
X-Robots-Tag:noindex
X-PUBLISHED-TTL:PT1H
BEGIN:VTIMEZONE
TZID:UTC
BEGIN:STANDARD
TZOFFSETFROM:+0000
TZOFFSETTO:+0000
TZNAME:UTC
DTSTART:20250101T000000
END:STANDARD
END:VTIMEZONE
BEGIN:VEVENT
DTSTART;TZID=UTC:20260202T073000
DTEND;TZID=UTC:20260202T143000
DTSTAMP:20260421T085237
CREATED:20251212T004251Z
LAST-MODIFIED:20251212T004254Z
UID:23845-1770017400-1770042600@www.mdvetgolf.org
SUMMARY:Gardiners Run
DESCRIPTION:
URL:https://www.mdvetgolf.org/event/gardiners-run-2/
END:VEVENT
END:VCALENDAR