BEGIN:VCALENDAR
VERSION:2.0
PRODID:-//MDVGA - ECPv6.15.20//NONSGML v1.0//EN
CALSCALE:GREGORIAN
METHOD:PUBLISH
X-WR-CALNAME:MDVGA
X-ORIGINAL-URL:https://www.mdvetgolf.org
X-WR-CALDESC:Events for MDVGA
REFRESH-INTERVAL;VALUE=DURATION:PT1H
X-Robots-Tag:noindex
X-PUBLISHED-TTL:PT1H
BEGIN:VTIMEZONE
TZID:UTC
BEGIN:STANDARD
TZOFFSETFROM:+0000
TZOFFSETTO:+0000
TZNAME:UTC
DTSTART:20200101T000000
END:STANDARD
END:VTIMEZONE
BEGIN:VEVENT
DTSTART;TZID=UTC:20220131T073000
DTEND;TZID=UTC:20220131T170000
DTSTAMP:20260420T081849
CREATED:20220117T220818Z
LAST-MODIFIED:20220117T220819Z
UID:21258-1643614200-1643648400@www.mdvetgolf.org
SUMMARY:Cranbourne - Stroke/Stableford Event
DESCRIPTION:
URL:https://www.mdvetgolf.org/event/cranbourne-stroke-stableford-event/
LOCATION:Vic
END:VEVENT
BEGIN:VEVENT
DTSTART;TZID=UTC:20220124T170000
DTEND;TZID=UTC:20220130T170000
DTSTAMP:20260420T081849
CREATED:20220117T220726Z
LAST-MODIFIED:20220117T220726Z
UID:21256-1643043600-1643562000@www.mdvetgolf.org
SUMMARY:Bookings Open - Canbourne
DESCRIPTION:
URL:https://www.mdvetgolf.org/event/bookings-open-canbourne/
LOCATION:Vic
END:VEVENT
BEGIN:VEVENT
DTSTART;TZID=UTC:20220124T074500
DTEND;TZID=UTC:20220124T140000
DTSTAMP:20260420T081849
CREATED:20211209T000708Z
LAST-MODIFIED:20211209T000708Z
UID:21188-1643010300-1643032800@www.mdvetgolf.org
SUMMARY:Hume District Challenge - Gisborne
DESCRIPTION:
URL:https://www.mdvetgolf.org/event/hume-district-challenge-gisborne/
LOCATION:Vic
END:VEVENT
BEGIN:VEVENT
DTSTART;TZID=UTC:20220117T073000
DTEND;TZID=UTC:20220117T140000
DTSTAMP:20260420T081849
CREATED:20211213T220825Z
LAST-MODIFIED:20211213T220825Z
UID:21202-1642404600-1642428000@www.mdvetgolf.org
SUMMARY:Eastern Golf Club Event
DESCRIPTION:
URL:https://www.mdvetgolf.org/event/eastern-golf-club-event/
LOCATION:Vic
END:VEVENT
BEGIN:VEVENT
DTSTART;TZID=UTC:20220110T170000
DTEND;TZID=UTC:20220116T170000
DTSTAMP:20260420T081849
CREATED:20211213T220638Z
LAST-MODIFIED:20211213T225512Z
UID:21200-1641834000-1642352400@www.mdvetgolf.org
SUMMARY:Bookings Open - Eastern Golf Club
DESCRIPTION:
URL:https://www.mdvetgolf.org/event/bookings-open-eastern-golf-club-2/
LOCATION:Vic
END:VEVENT
BEGIN:VEVENT
DTSTART;TZID=UTC:20211219T080000
DTEND;TZID=UTC:20220116T170000
DTSTAMP:20260420T081849
CREATED:20211209T000537Z
LAST-MODIFIED:20220105T091437Z
UID:21186-1639900800-1642352400@www.mdvetgolf.org
SUMMARY:Bookings Open - Hume District Challenge - Gisborne
DESCRIPTION:Bookings are now open for the Hume District Challenge ay Gisborne Golf Club on the 24th of January 2022. \n\n\n\n\n\nMembers who wish to play are encouraged to register their names as soon as possible
URL:https://www.mdvetgolf.org/event/bookings-open-hume-district-challenge-gisborne/
LOCATION:Vic
END:VEVENT
BEGIN:VEVENT
DTSTART;TZID=UTC:20211206T071500
DTEND;TZID=UTC:20211206T140000
DTSTAMP:20260420T081849
CREATED:20211126T045808Z
LAST-MODIFIED:20211126T045901Z
UID:21162-1638774900-1638799200@www.mdvetgolf.org
SUMMARY:Keysborough Event
DESCRIPTION:Teams Event – Best 3 Scores to count
URL:https://www.mdvetgolf.org/event/keysborough-event/
LOCATION:Vic
END:VEVENT
BEGIN:VEVENT
DTSTART;TZID=UTC:20211129T170000
DTEND;TZID=UTC:20211205T170000
DTSTAMP:20260420T081849
CREATED:20211126T045423Z
LAST-MODIFIED:20211126T045536Z
UID:21159-1638205200-1638723600@www.mdvetgolf.org
SUMMARY:Bookings Open - Keysborough event
DESCRIPTION:
URL:https://www.mdvetgolf.org/event/bookings-open-keysborough-event/
LOCATION:Vic
END:VEVENT
BEGIN:VEVENT
DTSTART;TZID=UTC:20211122T123000
DTEND;TZID=UTC:20211122T170000
DTSTAMP:20260420T081849
CREATED:20211025T031411Z
LAST-MODIFIED:20211025T031927Z
UID:21115-1637584200-1637600400@www.mdvetgolf.org
SUMMARY:Riversdale
DESCRIPTION:
URL:https://www.mdvetgolf.org/event/riversdale/
LOCATION:Vic
END:VEVENT
BEGIN:VEVENT
DTSTART;TZID=UTC:20211115T170000
DTEND;TZID=UTC:20211121T170000
DTSTAMP:20260420T081849
CREATED:20210602T232347Z
LAST-MODIFIED:20211025T031325Z
UID:20720-1636995600-1637514000@www.mdvetgolf.org
SUMMARY:Bookings Open - RIversdale
DESCRIPTION:
URL:https://www.mdvetgolf.org/event/bookings-open-rosanna/
LOCATION:Vic
END:VEVENT
BEGIN:VEVENT
DTSTART;TZID=UTC:20210628T080000
DTEND;TZID=UTC:20210628T140000
DTSTAMP:20260420T081849
CREATED:20210602T232433Z
LAST-MODIFIED:20210602T232433Z
UID:20722-1624867200-1624888800@www.mdvetgolf.org
SUMMARY:Rosanna
DESCRIPTION:
URL:https://www.mdvetgolf.org/event/rosanna/
LOCATION:Vic
END:VEVENT
BEGIN:VEVENT
DTSTART;TZID=UTC:20210524T080000
DTEND;TZID=UTC:20210524T140000
DTSTAMP:20260420T081849
CREATED:20210405T222459Z
LAST-MODIFIED:20210405T222501Z
UID:20607-1621843200-1621864800@www.mdvetgolf.org
SUMMARY:Yarra Yarra
DESCRIPTION:
URL:https://www.mdvetgolf.org/event/yarra-yarra/
LOCATION:Vic
END:VEVENT
BEGIN:VEVENT
DTSTART;TZID=UTC:20210517T170000
DTEND;TZID=UTC:20210523T170000
DTSTAMP:20260420T081849
CREATED:20210405T222418Z
LAST-MODIFIED:20210718T043221Z
UID:20605-1621270800-1621789200@www.mdvetgolf.org
SUMMARY:Bookings Open - Yarra Yarra
DESCRIPTION:
URL:https://www.mdvetgolf.org/event/bookings-open-yarra-yarra/
LOCATION:Vic
END:VEVENT
BEGIN:VEVENT
DTSTART;TZID=UTC:20210510T073000
DTEND;TZID=UTC:20210510T140000
DTSTAMP:20260420T081849
CREATED:20210405T222250Z
LAST-MODIFIED:20210426T053523Z
UID:20602-1620631800-1620655200@www.mdvetgolf.org
SUMMARY:Sandhurst event (Champions Course)
DESCRIPTION:
URL:https://www.mdvetgolf.org/event/the-dunes/
LOCATION:Vic
END:VEVENT
BEGIN:VEVENT
DTSTART;TZID=UTC:20210503T170000
DTEND;TZID=UTC:20210503T170000
DTSTAMP:20260420T081849
CREATED:20210405T222204Z
LAST-MODIFIED:20210426T053432Z
UID:20600-1620061200-1620061200@www.mdvetgolf.org
SUMMARY:Bookings open - sandhurst (Champions)
DESCRIPTION:
URL:https://www.mdvetgolf.org/event/bookings-open-the-dunes/
LOCATION:Vic
END:VEVENT
BEGIN:VEVENT
DTSTART;TZID=UTC:20210427T073000
DTEND;TZID=UTC:20210427T140000
DTSTAMP:20260420T081849
CREATED:20210405T222059Z
LAST-MODIFIED:20210418T050028Z
UID:20598-1619508600-1619532000@www.mdvetgolf.org
SUMMARY:Woodlands
DESCRIPTION:
URL:https://www.mdvetgolf.org/event/woodlands/
LOCATION:Vic
END:VEVENT
BEGIN:VEVENT
DTSTART;TZID=UTC:20210420T170000
DTEND;TZID=UTC:20210425T170000
DTSTAMP:20260420T081849
CREATED:20210405T222009Z
LAST-MODIFIED:20210405T222010Z
UID:20596-1618938000-1619370000@www.mdvetgolf.org
SUMMARY:Bookings Open - Woodlands
DESCRIPTION:
URL:https://www.mdvetgolf.org/event/bookings-open-woodlands/
LOCATION:Vic
END:VEVENT
BEGIN:VEVENT
DTSTART;TZID=UTC:20210412T073000
DTEND;TZID=UTC:20210412T140000
DTSTAMP:20260420T081849
CREATED:20210322T013756Z
LAST-MODIFIED:20210322T013757Z
UID:20563-1618212600-1618236000@www.mdvetgolf.org
SUMMARY:Waterford Valley Event
DESCRIPTION:
URL:https://www.mdvetgolf.org/event/waterford-valley-event/
LOCATION:Vic
END:VEVENT
BEGIN:VEVENT
DTSTART;TZID=UTC:20210405T170000
DTEND;TZID=UTC:20210411T170000
DTSTAMP:20260420T081849
CREATED:20210322T013701Z
LAST-MODIFIED:20210322T013701Z
UID:20561-1617642000-1618160400@www.mdvetgolf.org
SUMMARY:Bookings Open Waterford Valley
DESCRIPTION:
URL:https://www.mdvetgolf.org/event/bookings-open-waterford-valley/
LOCATION:Vic
END:VEVENT
BEGIN:VEVENT
DTSTART;TZID=UTC:20210329T073000
DTEND;TZID=UTC:20210329T140000
DTSTAMP:20260420T081849
CREATED:20210322T013458Z
LAST-MODIFIED:20210322T013542Z
UID:20559-1617003000-1617026400@www.mdvetgolf.org
SUMMARY:Settlers Run Event
DESCRIPTION:
URL:https://www.mdvetgolf.org/event/settlers-run-event/
LOCATION:Vic
END:VEVENT
BEGIN:VEVENT
DTSTART;TZID=UTC:20210322T170000
DTEND;TZID=UTC:20210328T170000
DTSTAMP:20260420T081849
CREATED:20210320T085500Z
LAST-MODIFIED:20210322T013333Z
UID:20546-1616432400-1616950800@www.mdvetgolf.org
SUMMARY:Bookings Open Settler's Run
DESCRIPTION:
URL:https://www.mdvetgolf.org/event/20546/
LOCATION:Vic
END:VEVENT
BEGIN:VEVENT
DTSTART;TZID=UTC:20210315T073000
DTEND;TZID=UTC:20210315T133000
DTSTAMP:20260420T081849
CREATED:20210219T035607Z
LAST-MODIFIED:20210219T035608Z
UID:20507-1615793400-1615815000@www.mdvetgolf.org
SUMMARY:Long Island Event
DESCRIPTION:
URL:https://www.mdvetgolf.org/event/long-island-event/
LOCATION:Vic
END:VEVENT
BEGIN:VEVENT
DTSTART;TZID=UTC:20210308T170000
DTEND;TZID=UTC:20210314T170000
DTSTAMP:20260420T081849
CREATED:20210219T035659Z
LAST-MODIFIED:20210219T035721Z
UID:20509-1615222800-1615741200@www.mdvetgolf.org
SUMMARY:Bookings Open - Long Island
DESCRIPTION:
URL:https://www.mdvetgolf.org/event/bookings-open-lonmg-island/
LOCATION:Vic
END:VEVENT
BEGIN:VEVENT
DTSTART;TZID=UTC:20210301T073000
DTEND;TZID=UTC:20210301T133000
DTSTAMP:20260420T081849
CREATED:20210219T035416Z
LAST-MODIFIED:20210219T035417Z
UID:20504-1614583800-1614605400@www.mdvetgolf.org
SUMMARY:Sandhurst Event North Course
DESCRIPTION:
URL:https://www.mdvetgolf.org/event/sandhurst-event-north-course/
LOCATION:Vic
END:VEVENT
BEGIN:VEVENT
DTSTART;TZID=UTC:20210222T080000
DTEND;TZID=UTC:20210228T170000
DTSTAMP:20260420T081849
CREATED:20210213T001041Z
LAST-MODIFIED:20210213T001042Z
UID:20489-1613980800-1614531600@www.mdvetgolf.org
SUMMARY:Bookings Open Sandhurst
DESCRIPTION:
URL:https://www.mdvetgolf.org/event/bookings-open-sandhurst/
LOCATION:Vic
END:VEVENT
BEGIN:VEVENT
DTSTART;TZID=UTC:20210201T073000
DTEND;TZID=UTC:20210201T140000
DTSTAMP:20260420T081849
CREATED:20201213T065636Z
LAST-MODIFIED:20201213T065637Z
UID:19838-1612164600-1612188000@www.mdvetgolf.org
SUMMARY:Cranbourne Cup & Round 1 Malcolm Macpherson Plate
DESCRIPTION:
URL:https://www.mdvetgolf.org/event/cranbourne-cup-round-1-malcolm-macpherson-plate/
LOCATION:Vic
END:VEVENT
BEGIN:VEVENT
DTSTART;TZID=UTC:20210125T170000
DTEND;TZID=UTC:20210131T170000
DTSTAMP:20260420T081849
CREATED:20201213T065725Z
LAST-MODIFIED:20201213T065725Z
UID:19841-1611594000-1612112400@www.mdvetgolf.org
SUMMARY:Bookings Open - Cranbourne Cup
DESCRIPTION:
URL:https://www.mdvetgolf.org/event/bookings-open-cranbourne-cup/
LOCATION:Vic
END:VEVENT
BEGIN:VEVENT
DTSTART;TZID=UTC:20210118T073000
DTEND;TZID=UTC:20210118T130000
DTSTAMP:20260420T081849
CREATED:20201129T221714Z
LAST-MODIFIED:20201219T223617Z
UID:19527-1610955000-1610974800@www.mdvetgolf.org
SUMMARY:Eastern Golf Club
DESCRIPTION:Registration by 7:30 for an 8:00 start \n\n\n\nPro shop 9739 0110
URL:https://www.mdvetgolf.org/event/eastern-golf-club/
LOCATION:Vic
END:VEVENT
BEGIN:VEVENT
DTSTART;TZID=UTC:20210111T170000
DTEND;TZID=UTC:20210117T170000
DTSTAMP:20260420T081849
CREATED:20201129T221628Z
LAST-MODIFIED:20201129T221629Z
UID:19525-1610384400-1610902800@www.mdvetgolf.org
SUMMARY:Bookings Open - Eastern Golf Club
DESCRIPTION:For Eastern Event on Monday 18th of January
URL:https://www.mdvetgolf.org/event/bookings-open-eastern-golf-club/
LOCATION:Vic
END:VEVENT
END:VCALENDAR