BEGIN:VCALENDAR
VERSION:2.0
PRODID:-//MDVGA - ECPv6.15.20//NONSGML v1.0//EN
CALSCALE:GREGORIAN
METHOD:PUBLISH
X-WR-CALNAME:MDVGA
X-ORIGINAL-URL:https://www.mdvetgolf.org
X-WR-CALDESC:Events for MDVGA
REFRESH-INTERVAL;VALUE=DURATION:PT1H
X-Robots-Tag:noindex
X-PUBLISHED-TTL:PT1H
BEGIN:VTIMEZONE
TZID:UTC
BEGIN:STANDARD
TZOFFSETFROM:+0000
TZOFFSETTO:+0000
TZNAME:UTC
DTSTART:20210101T000000
END:STANDARD
END:VTIMEZONE
BEGIN:VEVENT
DTSTART;TZID=UTC:20230515T080000
DTEND;TZID=UTC:20230521T170000
DTSTAMP:20260419T210539
CREATED:20230425T013232Z
LAST-MODIFIED:20230425T013232Z
UID:22321-1684137600-1684688400@www.mdvetgolf.org
SUMMARY:Bookings Open - Yarra Yarra
DESCRIPTION:
URL:https://www.mdvetgolf.org/event/bookings-open-yarra-yarra-3/
END:VEVENT
BEGIN:VEVENT
DTSTART;TZID=UTC:20230501T073000
DTEND;TZID=UTC:20230501T140000
DTSTAMP:20260419T210539
CREATED:20230327T062151Z
LAST-MODIFIED:20230427T054007Z
UID:22240-1682926200-1682949600@www.mdvetgolf.org
SUMMARY:Sandhurst North Course - Multi 4BBB Event
DESCRIPTION:Each player will be teamed with each player in their group – scoring is automatic
URL:https://www.mdvetgolf.org/event/snadhurst-north-multi-4bbb-event/
END:VEVENT
BEGIN:VEVENT
DTSTART;TZID=UTC:20230424T170000
DTEND;TZID=UTC:20230430T170000
DTSTAMP:20260419T210539
CREATED:20230327T061909Z
LAST-MODIFIED:20230427T053937Z
UID:22237-1682355600-1682874000@www.mdvetgolf.org
SUMMARY:Bookings Open Sandhurst North
DESCRIPTION:Multi 4BBB Team Event
URL:https://www.mdvetgolf.org/event/bookings-open-sandhurst-north/
END:VEVENT
BEGIN:VEVENT
DTSTART;TZID=UTC:20230417T073000
DTEND;TZID=UTC:20230417T170000
DTSTAMP:20260419T210539
CREATED:20230324T000635Z
LAST-MODIFIED:20230324T000635Z
UID:22230-1681716600-1681750800@www.mdvetgolf.org
SUMMARY:Southern Event - Second Round Club Championships
DESCRIPTION:
URL:https://www.mdvetgolf.org/event/southern-event-second-round-club-championships/
END:VEVENT
BEGIN:VEVENT
DTSTART;TZID=UTC:20230410T170000
DTEND;TZID=UTC:20230416T170000
DTSTAMP:20260419T210539
CREATED:20230324T000546Z
LAST-MODIFIED:20230324T000547Z
UID:22228-1681146000-1681664400@www.mdvetgolf.org
SUMMARY:Bookings Open - Southern
DESCRIPTION:
URL:https://www.mdvetgolf.org/event/bookings-open-southern-2/
END:VEVENT
BEGIN:VEVENT
DTSTART;TZID=UTC:20230320T073000
DTEND;TZID=UTC:20230320T140000
DTSTAMP:20260419T210539
CREATED:20230303T002321Z
LAST-MODIFIED:20230303T002322Z
UID:22195-1679297400-1679320800@www.mdvetgolf.org
SUMMARY:Keysborough Event
DESCRIPTION:
URL:https://www.mdvetgolf.org/event/keysborough-event-2/
END:VEVENT
BEGIN:VEVENT
DTSTART;TZID=UTC:20230313T170000
DTEND;TZID=UTC:20230319T170000
DTSTAMP:20260419T210539
CREATED:20230303T002235Z
LAST-MODIFIED:20230303T002236Z
UID:22193-1678726800-1679245200@www.mdvetgolf.org
SUMMARY:Bookings Open - Keysborough
DESCRIPTION:
URL:https://www.mdvetgolf.org/event/bookings-open-keysborough/
END:VEVENT
BEGIN:VEVENT
DTSTART;TZID=UTC:20230306T073000
DTEND;TZID=UTC:20230306T140000
DTSTAMP:20260419T210539
CREATED:20230303T002136Z
LAST-MODIFIED:20230303T002137Z
UID:22191-1678087800-1678111200@www.mdvetgolf.org
SUMMARY:Rosanna Event
DESCRIPTION:
URL:https://www.mdvetgolf.org/event/rosanna-event-2/
END:VEVENT
BEGIN:VEVENT
DTSTART;TZID=UTC:20230227T080000
DTEND;TZID=UTC:20230305T170000
DTSTAMP:20260419T210539
CREATED:20230303T002052Z
LAST-MODIFIED:20230303T002052Z
UID:22189-1677484800-1678035600@www.mdvetgolf.org
SUMMARY:Bookings Open - Rosanna
DESCRIPTION:
URL:https://www.mdvetgolf.org/event/bookings-open-rosanna-3/
END:VEVENT
BEGIN:VEVENT
DTSTART;TZID=UTC:20230227T073000
DTEND;TZID=UTC:20230227T140000
DTSTAMP:20260419T210539
CREATED:20230212T232326Z
LAST-MODIFIED:20230212T232326Z
UID:22143-1677483000-1677506400@www.mdvetgolf.org
SUMMARY:Event - Setllers Run
DESCRIPTION:
URL:https://www.mdvetgolf.org/event/event-setllers-run/
END:VEVENT
BEGIN:VEVENT
DTSTART;TZID=UTC:20230220T170000
DTEND;TZID=UTC:20230226T170000
DTSTAMP:20260419T210539
CREATED:20230212T232426Z
LAST-MODIFIED:20230212T232512Z
UID:22145-1676912400-1677430800@www.mdvetgolf.org
SUMMARY:Bookings Open - Settlers Run
DESCRIPTION:
URL:https://www.mdvetgolf.org/event/bookings-open-settlers-run-2/
END:VEVENT
BEGIN:VEVENT
DTSTART;TZID=UTC:20230213T073000
DTEND;TZID=UTC:20230213T140000
DTSTAMP:20260419T210539
CREATED:20230131T030026Z
LAST-MODIFIED:20230131T030026Z
UID:22133-1676273400-1676296800@www.mdvetgolf.org
SUMMARY:Latrobe Event
DESCRIPTION:
URL:https://www.mdvetgolf.org/event/latrobe-event-2/
END:VEVENT
BEGIN:VEVENT
DTSTART;TZID=UTC:20230206T170000
DTEND;TZID=UTC:20230212T170000
DTSTAMP:20260419T210539
CREATED:20230131T025937Z
LAST-MODIFIED:20230131T025938Z
UID:22131-1675702800-1676221200@www.mdvetgolf.org
SUMMARY:Bookings Open for Latrobe
DESCRIPTION:
URL:https://www.mdvetgolf.org/event/bookings-open-for-latrobe/
END:VEVENT
BEGIN:VEVENT
DTSTART;TZID=UTC:20230130T080000
DTEND;TZID=UTC:20230130T140000
DTSTAMP:20260419T210539
CREATED:20230103T010432Z
LAST-MODIFIED:20230103T010446Z
UID:22108-1675065600-1675087200@www.mdvetgolf.org
SUMMARY:Gardiners Run
DESCRIPTION:
URL:https://www.mdvetgolf.org/event/gardinersd-run/
END:VEVENT
BEGIN:VEVENT
DTSTART;TZID=UTC:20230123T170000
DTEND;TZID=UTC:20230129T170000
DTSTAMP:20260419T210539
CREATED:20230103T010303Z
LAST-MODIFIED:20230103T010356Z
UID:22106-1674493200-1675011600@www.mdvetgolf.org
SUMMARY:Booking Open - Gardiners Run
DESCRIPTION:
URL:https://www.mdvetgolf.org/event/booking-open-gardiners-run/
END:VEVENT
BEGIN:VEVENT
DTSTART;TZID=UTC:20230123T083000
DTEND;TZID=UTC:20230123T170000
DTSTAMP:20260419T210539
CREATED:20221208T213912Z
LAST-MODIFIED:20221208T213912Z
UID:22092-1674462600-1674493200@www.mdvetgolf.org
SUMMARY:Gisbourne - Presidents Challenge Hume  Versus Melbourne
DESCRIPTION:
URL:https://www.mdvetgolf.org/event/gisbourne-presidents-challenge-hume-versus-melbourne/
END:VEVENT
BEGIN:VEVENT
DTSTART;TZID=UTC:20221205T073000
DTEND;TZID=UTC:20221205T170000
DTSTAMP:20260419T210539
CREATED:20221122T214214Z
LAST-MODIFIED:20221122T214215Z
UID:22051-1670225400-1670259600@www.mdvetgolf.org
SUMMARY:Keysborough - Teams Event
DESCRIPTION:
URL:https://www.mdvetgolf.org/event/keysborough-teams-event/
END:VEVENT
BEGIN:VEVENT
DTSTART;TZID=UTC:20221128T080000
DTEND;TZID=UTC:20221204T170000
DTSTAMP:20260419T210539
CREATED:20221122T214124Z
LAST-MODIFIED:20221122T214125Z
UID:22049-1669622400-1670173200@www.mdvetgolf.org
SUMMARY:Booking Open - Keysborough Teams Event
DESCRIPTION:
URL:https://www.mdvetgolf.org/event/booking-open-keysborough-teams-event/
END:VEVENT
BEGIN:VEVENT
DTSTART;TZID=UTC:20221107T073000
DTEND;TZID=UTC:20221107T170000
DTSTAMP:20260419T210539
CREATED:20221029T061334Z
LAST-MODIFIED:20221029T061334Z
UID:21955-1667806200-1667840400@www.mdvetgolf.org
SUMMARY:Spring Valley Event
DESCRIPTION:
URL:https://www.mdvetgolf.org/event/spring-valley-event/
END:VEVENT
BEGIN:VEVENT
DTSTART;TZID=UTC:20221107T073000
DTEND;TZID=UTC:20221107T140000
DTSTAMP:20260419T210539
CREATED:20221014T033713Z
LAST-MODIFIED:20221029T051057Z
UID:21891-1667806200-1667829600@www.mdvetgolf.org
SUMMARY:Kew Golf Club Event - Cancelled
DESCRIPTION:
URL:https://www.mdvetgolf.org/event/kew-golf-club-event/
END:VEVENT
BEGIN:VEVENT
DTSTART;TZID=UTC:20221031T170000
DTEND;TZID=UTC:20221106T170000
DTSTAMP:20260419T210539
CREATED:20221014T033556Z
LAST-MODIFIED:20221029T061254Z
UID:21889-1667235600-1667754000@www.mdvetgolf.org
SUMMARY:Bookings  open for Spring Valley
DESCRIPTION:
URL:https://www.mdvetgolf.org/event/booking-open-for-kew/
END:VEVENT
BEGIN:VEVENT
DTSTART;TZID=UTC:20221017T073000
DTEND;TZID=UTC:20221017T140000
DTSTAMP:20260419T210539
CREATED:20220925T224855Z
LAST-MODIFIED:20221014T033411Z
UID:21828-1665991800-1666015200@www.mdvetgolf.org
SUMMARY:Latrobe - Cancelled
DESCRIPTION:
URL:https://www.mdvetgolf.org/event/latrobe-event/
END:VEVENT
BEGIN:VEVENT
DTSTART;TZID=UTC:20221003T073000
DTEND;TZID=UTC:20221003T140000
DTSTAMP:20260419T210539
CREATED:20220912T071303Z
LAST-MODIFIED:20220912T071304Z
UID:21804-1664782200-1664805600@www.mdvetgolf.org
SUMMARY:Southern Golf Club
DESCRIPTION:
URL:https://www.mdvetgolf.org/event/southern-golf-club/
END:VEVENT
BEGIN:VEVENT
DTSTART;TZID=UTC:20220926T080000
DTEND;TZID=UTC:20221002T170000
DTSTAMP:20260419T210539
CREATED:20220912T071205Z
LAST-MODIFIED:20220912T071232Z
UID:21801-1664179200-1664730000@www.mdvetgolf.org
SUMMARY:Bookings Open Southern
DESCRIPTION:
URL:https://www.mdvetgolf.org/event/bookings-open-sourthern/
END:VEVENT
BEGIN:VEVENT
DTSTART;TZID=UTC:20220919T073000
DTEND;TZID=UTC:20220919T140000
DTSTAMP:20260419T210539
CREATED:20220905T050414Z
LAST-MODIFIED:20220912T071112Z
UID:21791-1663572600-1663596000@www.mdvetgolf.org
SUMMARY:Northern Event - Cancelled
DESCRIPTION:
URL:https://www.mdvetgolf.org/event/northern-golf-club-event/
END:VEVENT
BEGIN:VEVENT
DTSTART;TZID=UTC:20220905T073000
DTEND;TZID=UTC:20220905T140000
DTSTAMP:20260419T210539
CREATED:20220823T001613Z
LAST-MODIFIED:20220823T001614Z
UID:21763-1662363000-1662386400@www.mdvetgolf.org
SUMMARY:Spring Valley 4BBB Event
DESCRIPTION:
URL:https://www.mdvetgolf.org/event/spring-valley-4bbb-event/
END:VEVENT
BEGIN:VEVENT
DTSTART;TZID=UTC:20220829T170000
DTEND;TZID=UTC:20220904T170000
DTSTAMP:20260419T210539
CREATED:20220823T001427Z
LAST-MODIFIED:20220823T001428Z
UID:21758-1661792400-1662310800@www.mdvetgolf.org
SUMMARY:Bookings Open - Spring Valley 4BBB Event
DESCRIPTION:
URL:https://www.mdvetgolf.org/event/bookings-open-spring-valley-4bbb-event/
END:VEVENT
BEGIN:VEVENT
DTSTART;TZID=UTC:20220822T073000
DTEND;TZID=UTC:20220822T140000
DTSTAMP:20260419T210539
CREATED:20220810T020258Z
LAST-MODIFIED:20220810T020328Z
UID:21689-1661153400-1661176800@www.mdvetgolf.org
SUMMARY:Cranbourne Golf Club Event
DESCRIPTION:
URL:https://www.mdvetgolf.org/event/cranbourne-event/
END:VEVENT
BEGIN:VEVENT
DTSTART;TZID=UTC:20220815T170000
DTEND;TZID=UTC:20220821T170000
DTSTAMP:20260419T210539
CREATED:20220810T020418Z
LAST-MODIFIED:20220810T020418Z
UID:21692-1660582800-1661101200@www.mdvetgolf.org
SUMMARY:Bookings Open - Cranbourne
DESCRIPTION:
URL:https://www.mdvetgolf.org/event/bookings-open-cranbourne/
END:VEVENT
BEGIN:VEVENT
DTSTART;TZID=UTC:20220808T080000
DTEND;TZID=UTC:20220808T140000
DTSTAMP:20260419T210539
CREATED:20220612T010355Z
LAST-MODIFIED:20220612T010356Z
UID:21577-1659945600-1659967200@www.mdvetgolf.org
SUMMARY:Patterson River
DESCRIPTION:
URL:https://www.mdvetgolf.org/event/patterson-river/
END:VEVENT
END:VCALENDAR