BEGIN:VCALENDAR
VERSION:2.0
PRODID:-//MDVGA - ECPv6.15.20//NONSGML v1.0//EN
CALSCALE:GREGORIAN
METHOD:PUBLISH
X-WR-CALNAME:MDVGA
X-ORIGINAL-URL:https://www.mdvetgolf.org
X-WR-CALDESC:Events for MDVGA
REFRESH-INTERVAL;VALUE=DURATION:PT1H
X-Robots-Tag:noindex
X-PUBLISHED-TTL:PT1H
BEGIN:VTIMEZONE
TZID:UTC
BEGIN:STANDARD
TZOFFSETFROM:+0000
TZOFFSETTO:+0000
TZNAME:UTC
DTSTART:20200101T000000
END:STANDARD
END:VTIMEZONE
BEGIN:VEVENT
DTSTART;TZID=UTC:20220829T170000
DTEND;TZID=UTC:20220904T170000
DTSTAMP:20260420T045607
CREATED:20220823T001427Z
LAST-MODIFIED:20220823T001428Z
UID:21758-1661792400-1662310800@www.mdvetgolf.org
SUMMARY:Bookings Open - Spring Valley 4BBB Event
DESCRIPTION:
URL:https://www.mdvetgolf.org/event/bookings-open-spring-valley-4bbb-event/
END:VEVENT
BEGIN:VEVENT
DTSTART;TZID=UTC:20220822T073000
DTEND;TZID=UTC:20220822T140000
DTSTAMP:20260420T045607
CREATED:20220810T020258Z
LAST-MODIFIED:20220810T020328Z
UID:21689-1661153400-1661176800@www.mdvetgolf.org
SUMMARY:Cranbourne Golf Club Event
DESCRIPTION:
URL:https://www.mdvetgolf.org/event/cranbourne-event/
END:VEVENT
BEGIN:VEVENT
DTSTART;TZID=UTC:20220815T170000
DTEND;TZID=UTC:20220821T170000
DTSTAMP:20260420T045607
CREATED:20220810T020418Z
LAST-MODIFIED:20220810T020418Z
UID:21692-1660582800-1661101200@www.mdvetgolf.org
SUMMARY:Bookings Open - Cranbourne
DESCRIPTION:
URL:https://www.mdvetgolf.org/event/bookings-open-cranbourne/
END:VEVENT
BEGIN:VEVENT
DTSTART;TZID=UTC:20220808T080000
DTEND;TZID=UTC:20220808T140000
DTSTAMP:20260420T045607
CREATED:20220612T010355Z
LAST-MODIFIED:20220612T010356Z
UID:21577-1659945600-1659967200@www.mdvetgolf.org
SUMMARY:Patterson River
DESCRIPTION:
URL:https://www.mdvetgolf.org/event/patterson-river/
END:VEVENT
BEGIN:VEVENT
DTSTART;TZID=UTC:20220801T170000
DTEND;TZID=UTC:20220807T170000
DTSTAMP:20260420T045607
CREATED:20220612T010224Z
LAST-MODIFIED:20220612T010224Z
UID:21574-1659373200-1659891600@www.mdvetgolf.org
SUMMARY:Bookings Open - Patterson River
DESCRIPTION:
URL:https://www.mdvetgolf.org/event/bookings-open-patterson-river/
END:VEVENT
BEGIN:VEVENT
DTSTART;TZID=UTC:20220620T080000
DTEND;TZID=UTC:20220620T140000
DTSTAMP:20260420T045607
CREATED:20220531T235550Z
LAST-MODIFIED:20220606T045151Z
UID:21544-1655712000-1655733600@www.mdvetgolf.org
SUMMARY:Rosebud Country Club
DESCRIPTION:
URL:https://www.mdvetgolf.org/event/rosebud-country-club/
LOCATION:207 Boneo Rd\, Rosebud VIC 3939\, 207 Boneo Rd\, Rosebud\, Vic\, 3939\, Australia
END:VEVENT
BEGIN:VEVENT
DTSTART;TZID=UTC:20220613T170000
DTEND;TZID=UTC:20220619T170000
DTSTAMP:20260420T045607
CREATED:20220531T235103Z
LAST-MODIFIED:20220531T235815Z
UID:21539-1655139600-1655658000@www.mdvetgolf.org
SUMMARY:Bookings Open Rosebud CC
DESCRIPTION:For carts ring RCC on 5950 0800
URL:https://www.mdvetgolf.org/event/bookings-open-rosebud-cc/
LOCATION:rosebud country club\, 207 Boneo road\, Rosebud
END:VEVENT
BEGIN:VEVENT
DTSTART;TZID=UTC:20220606T073000
DTEND;TZID=UTC:20220606T140000
DTSTAMP:20260420T045607
CREATED:20220523T062311Z
LAST-MODIFIED:20220523T062312Z
UID:21521-1654500600-1654524000@www.mdvetgolf.org
SUMMARY:Southern Event
DESCRIPTION:
URL:https://www.mdvetgolf.org/event/southern-event/
END:VEVENT
BEGIN:VEVENT
DTSTART;TZID=UTC:20220530T170000
DTEND;TZID=UTC:20220605T170000
DTSTAMP:20260420T045607
CREATED:20220523T062225Z
LAST-MODIFIED:20220523T062226Z
UID:21519-1653930000-1654448400@www.mdvetgolf.org
SUMMARY:Bookings Open - Southern
DESCRIPTION:
URL:https://www.mdvetgolf.org/event/bookings-open-southern/
END:VEVENT
BEGIN:VEVENT
DTSTART;TZID=UTC:20220509T080000
DTEND;TZID=UTC:20220521T170000
DTSTAMP:20260420T045607
CREATED:20220509T065640Z
LAST-MODIFIED:20220509T065640Z
UID:21491-1652083200-1653152400@www.mdvetgolf.org
SUMMARY:Bookings now open - Peninsula Kingswood
DESCRIPTION:
URL:https://www.mdvetgolf.org/event/bookings-now-open-peninsula-kingswood/
END:VEVENT
BEGIN:VEVENT
DTSTART;TZID=UTC:20220509T073000
DTEND;TZID=UTC:20220509T133000
DTSTAMP:20260420T045607
CREATED:20220429T020244Z
LAST-MODIFIED:20220429T020245Z
UID:21454-1652081400-1652103000@www.mdvetgolf.org
SUMMARY:Yarra Yarra Event
DESCRIPTION:
URL:https://www.mdvetgolf.org/event/yarra-yarra-event/
END:VEVENT
BEGIN:VEVENT
DTSTART;TZID=UTC:20220502T170000
DTEND;TZID=UTC:20220508T170000
DTSTAMP:20260420T045607
CREATED:20220429T020338Z
LAST-MODIFIED:20220429T020420Z
UID:21456-1651510800-1652029200@www.mdvetgolf.org
SUMMARY:Bookings open - Yarra Yarra
DESCRIPTION:
URL:https://www.mdvetgolf.org/event/bookings-open-yarra-yarra-2/
END:VEVENT
BEGIN:VEVENT
DTSTART;TZID=UTC:20220426T073000
DTEND;TZID=UTC:20220426T133000
DTSTAMP:20260420T045607
CREATED:20220412T003138Z
LAST-MODIFIED:20220412T003139Z
UID:21443-1650958200-1650979800@www.mdvetgolf.org
SUMMARY:Woodlands Event
DESCRIPTION:
URL:https://www.mdvetgolf.org/event/woodlands-event/
END:VEVENT
BEGIN:VEVENT
DTSTART;TZID=UTC:20220419T170000
DTEND;TZID=UTC:20220425T170000
DTSTAMP:20260420T045607
CREATED:20220412T002941Z
LAST-MODIFIED:20220412T003052Z
UID:21441-1650387600-1650906000@www.mdvetgolf.org
SUMMARY:Bookings Open Woodlands
DESCRIPTION:
URL:https://www.mdvetgolf.org/event/bookings-open-woodlands-2/
END:VEVENT
BEGIN:VEVENT
DTSTART;TZID=UTC:20220412T080000
DTEND;TZID=UTC:20220412T170000
DTSTAMP:20260420T045607
CREATED:20220329T015927Z
LAST-MODIFIED:20220329T015928Z
UID:21427-1649750400-1649782800@www.mdvetgolf.org
SUMMARY:The Dunes
DESCRIPTION:
URL:https://www.mdvetgolf.org/event/the-dunes-2/
END:VEVENT
BEGIN:VEVENT
DTSTART;TZID=UTC:20220405T170000
DTEND;TZID=UTC:20220410T170000
DTSTAMP:20260420T045607
CREATED:20220329T020023Z
LAST-MODIFIED:20220329T020024Z
UID:21429-1649178000-1649610000@www.mdvetgolf.org
SUMMARY:Bookings Open - The Dunes
DESCRIPTION:
URL:https://www.mdvetgolf.org/event/bookings-open-the-dunes-2/
END:VEVENT
BEGIN:VEVENT
DTSTART;TZID=UTC:20220328T073000
DTEND;TZID=UTC:20220328T133000
DTSTAMP:20260420T045607
CREATED:20220306T024724Z
LAST-MODIFIED:20220306T024724Z
UID:21376-1648452600-1648474200@www.mdvetgolf.org
SUMMARY:Settlers Run Event
DESCRIPTION:
URL:https://www.mdvetgolf.org/event/settlers-run-event-2/
END:VEVENT
BEGIN:VEVENT
DTSTART;TZID=UTC:20220321T170000
DTEND;TZID=UTC:20220327T170000
DTSTAMP:20260420T045607
CREATED:20220306T024636Z
LAST-MODIFIED:20220306T024637Z
UID:21374-1647882000-1648400400@www.mdvetgolf.org
SUMMARY:Bookings Open - Settlers Run
DESCRIPTION:
URL:https://www.mdvetgolf.org/event/bookings-open-settlers-run/
END:VEVENT
BEGIN:VEVENT
DTSTART;TZID=UTC:20220307T073000
DTEND;TZID=UTC:20220307T133000
DTSTAMP:20260420T045607
CREATED:20220306T024520Z
LAST-MODIFIED:20220306T024520Z
UID:21372-1646638200-1646659800@www.mdvetgolf.org
SUMMARY:Long Island (The National) Event
DESCRIPTION:
URL:https://www.mdvetgolf.org/event/long-island-the-national-event/
END:VEVENT
BEGIN:VEVENT
DTSTART;TZID=UTC:20220214T073000
DTEND;TZID=UTC:20220214T143000
DTSTAMP:20260420T045607
CREATED:20220203T030902Z
LAST-MODIFIED:20220203T031008Z
UID:21307-1644823800-1644849000@www.mdvetgolf.org
SUMMARY:Rosanna Event
DESCRIPTION:
URL:https://www.mdvetgolf.org/event/rosanna-event/
END:VEVENT
BEGIN:VEVENT
DTSTART;TZID=UTC:20220207T170000
DTEND;TZID=UTC:20220213T170000
DTSTAMP:20260420T045607
CREATED:20220203T022027Z
LAST-MODIFIED:20220203T030813Z
UID:21304-1644253200-1644771600@www.mdvetgolf.org
SUMMARY:Bookings Open - Rosanna
DESCRIPTION:
URL:https://www.mdvetgolf.org/event/bookings-open-rosanna-2/
END:VEVENT
BEGIN:VEVENT
DTSTART;TZID=UTC:20220131T073000
DTEND;TZID=UTC:20220131T170000
DTSTAMP:20260420T045607
CREATED:20220117T220818Z
LAST-MODIFIED:20220117T220819Z
UID:21258-1643614200-1643648400@www.mdvetgolf.org
SUMMARY:Cranbourne - Stroke/Stableford Event
DESCRIPTION:
URL:https://www.mdvetgolf.org/event/cranbourne-stroke-stableford-event/
END:VEVENT
BEGIN:VEVENT
DTSTART;TZID=UTC:20220124T170000
DTEND;TZID=UTC:20220130T170000
DTSTAMP:20260420T045607
CREATED:20220117T220726Z
LAST-MODIFIED:20220117T220726Z
UID:21256-1643043600-1643562000@www.mdvetgolf.org
SUMMARY:Bookings Open - Canbourne
DESCRIPTION:
URL:https://www.mdvetgolf.org/event/bookings-open-canbourne/
END:VEVENT
BEGIN:VEVENT
DTSTART;TZID=UTC:20220124T074500
DTEND;TZID=UTC:20220124T140000
DTSTAMP:20260420T045607
CREATED:20211209T000708Z
LAST-MODIFIED:20211209T000708Z
UID:21188-1643010300-1643032800@www.mdvetgolf.org
SUMMARY:Hume District Challenge - Gisborne
DESCRIPTION:
URL:https://www.mdvetgolf.org/event/hume-district-challenge-gisborne/
END:VEVENT
BEGIN:VEVENT
DTSTART;TZID=UTC:20220117T073000
DTEND;TZID=UTC:20220117T140000
DTSTAMP:20260420T045607
CREATED:20211213T220825Z
LAST-MODIFIED:20211213T220825Z
UID:21202-1642404600-1642428000@www.mdvetgolf.org
SUMMARY:Eastern Golf Club Event
DESCRIPTION:
URL:https://www.mdvetgolf.org/event/eastern-golf-club-event/
END:VEVENT
BEGIN:VEVENT
DTSTART;TZID=UTC:20220110T170000
DTEND;TZID=UTC:20220116T170000
DTSTAMP:20260420T045607
CREATED:20211213T220638Z
LAST-MODIFIED:20211213T225512Z
UID:21200-1641834000-1642352400@www.mdvetgolf.org
SUMMARY:Bookings Open - Eastern Golf Club
DESCRIPTION:
URL:https://www.mdvetgolf.org/event/bookings-open-eastern-golf-club-2/
END:VEVENT
BEGIN:VEVENT
DTSTART;TZID=UTC:20211219T080000
DTEND;TZID=UTC:20220116T170000
DTSTAMP:20260420T045607
CREATED:20211209T000537Z
LAST-MODIFIED:20220105T091437Z
UID:21186-1639900800-1642352400@www.mdvetgolf.org
SUMMARY:Bookings Open - Hume District Challenge - Gisborne
DESCRIPTION:Bookings are now open for the Hume District Challenge ay Gisborne Golf Club on the 24th of January 2022. \n\n\n\n\n\nMembers who wish to play are encouraged to register their names as soon as possible
URL:https://www.mdvetgolf.org/event/bookings-open-hume-district-challenge-gisborne/
END:VEVENT
BEGIN:VEVENT
DTSTART;TZID=UTC:20211206T071500
DTEND;TZID=UTC:20211206T140000
DTSTAMP:20260420T045607
CREATED:20211126T045808Z
LAST-MODIFIED:20211126T045901Z
UID:21162-1638774900-1638799200@www.mdvetgolf.org
SUMMARY:Keysborough Event
DESCRIPTION:Teams Event – Best 3 Scores to count
URL:https://www.mdvetgolf.org/event/keysborough-event/
END:VEVENT
BEGIN:VEVENT
DTSTART;TZID=UTC:20211129T170000
DTEND;TZID=UTC:20211205T170000
DTSTAMP:20260420T045607
CREATED:20211126T045423Z
LAST-MODIFIED:20211126T045536Z
UID:21159-1638205200-1638723600@www.mdvetgolf.org
SUMMARY:Bookings Open - Keysborough event
DESCRIPTION:
URL:https://www.mdvetgolf.org/event/bookings-open-keysborough-event/
END:VEVENT
BEGIN:VEVENT
DTSTART;TZID=UTC:20211122T123000
DTEND;TZID=UTC:20211122T170000
DTSTAMP:20260420T045607
CREATED:20211025T031411Z
LAST-MODIFIED:20211025T031927Z
UID:21115-1637584200-1637600400@www.mdvetgolf.org
SUMMARY:Riversdale
DESCRIPTION:
URL:https://www.mdvetgolf.org/event/riversdale/
END:VEVENT
END:VCALENDAR