BEGIN:VCALENDAR
VERSION:2.0
PRODID:-//MDVGA - ECPv6.15.20//NONSGML v1.0//EN
CALSCALE:GREGORIAN
METHOD:PUBLISH
X-ORIGINAL-URL:https://www.mdvetgolf.org
X-WR-CALDESC:Events for MDVGA
REFRESH-INTERVAL;VALUE=DURATION:PT1H
X-Robots-Tag:noindex
X-PUBLISHED-TTL:PT1H
BEGIN:VTIMEZONE
TZID:UTC
BEGIN:STANDARD
TZOFFSETFROM:+0000
TZOFFSETTO:+0000
TZNAME:UTC
DTSTART:20220101T000000
END:STANDARD
END:VTIMEZONE
BEGIN:VEVENT
DTSTART;TZID=UTC:20230807T170000
DTEND;TZID=UTC:20230813T173000
DTSTAMP:20260423T053733
CREATED:20230710T235123Z
LAST-MODIFIED:20230710T235123Z
UID:22457-1691427600-1691947800@www.mdvetgolf.org
SUMMARY:Bookings Open - Rosebud Country Club
DESCRIPTION:
URL:https://www.mdvetgolf.org/event/bookings-open-rosebud-country-club/
END:VEVENT
BEGIN:VEVENT
DTSTART;TZID=UTC:20230814T080000
DTEND;TZID=UTC:20230814T130000
DTSTAMP:20260423T053733
CREATED:20230710T235030Z
LAST-MODIFIED:20230710T235031Z
UID:22455-1692000000-1692018000@www.mdvetgolf.org
SUMMARY:Rosebud Country Club (North)
DESCRIPTION:
URL:https://www.mdvetgolf.org/event/rosebud-country-club-north/
END:VEVENT
BEGIN:VEVENT
DTSTART;TZID=UTC:20230828T170000
DTEND;TZID=UTC:20230903T170000
DTSTAMP:20260423T053733
CREATED:20230813T000012Z
LAST-MODIFIED:20230813T000013Z
UID:22550-1693242000-1693760400@www.mdvetgolf.org
SUMMARY:Bookings Open - Sandhurst (North) on September 4
DESCRIPTION:
URL:https://www.mdvetgolf.org/event/bookings-open-sandhurst-north-on-september-4/
END:VEVENT
END:VCALENDAR