BEGIN:VCALENDAR
VERSION:2.0
PRODID:-//MDVGA - ECPv6.15.20//NONSGML v1.0//EN
CALSCALE:GREGORIAN
METHOD:PUBLISH
X-ORIGINAL-URL:https://www.mdvetgolf.org
X-WR-CALDESC:Events for MDVGA
REFRESH-INTERVAL;VALUE=DURATION:PT1H
X-Robots-Tag:noindex
X-PUBLISHED-TTL:PT1H
BEGIN:VTIMEZONE
TZID:UTC
BEGIN:STANDARD
TZOFFSETFROM:+0000
TZOFFSETTO:+0000
TZNAME:UTC
DTSTART:20230101T000000
END:STANDARD
END:VTIMEZONE
BEGIN:VEVENT
DTSTART;TZID=UTC:20240826T170000
DTEND;TZID=UTC:20240901T170000
DTSTAMP:20260422T024934
CREATED:20240823T004842Z
LAST-MODIFIED:20240823T004857Z
UID:23122-1724691600-1725210000@www.mdvetgolf.org
SUMMARY:Bookings Open - Southern Golf Club
DESCRIPTION:
URL:https://www.mdvetgolf.org/event/bookings-open-southern-golf-club/
END:VEVENT
BEGIN:VEVENT
DTSTART;TZID=UTC:20240902T073000
DTEND;TZID=UTC:20240902T133000
DTSTAMP:20260422T024934
CREATED:20240823T004802Z
LAST-MODIFIED:20240823T004957Z
UID:23120-1725262200-1725283800@www.mdvetgolf.org
SUMMARY:Southern Golf Club
DESCRIPTION:
URL:https://www.mdvetgolf.org/event/southern-golf-club-2/
END:VEVENT
BEGIN:VEVENT
DTSTART;TZID=UTC:20240908T080000
DTEND;TZID=UTC:20240915T170000
DTSTAMP:20260422T024934
CREATED:20240909T223917Z
LAST-MODIFIED:20240909T223918Z
UID:23142-1725782400-1726419600@www.mdvetgolf.org
SUMMARY:Bookings Open - Heritage (Henley Course)
DESCRIPTION:
URL:https://www.mdvetgolf.org/event/bookings-open-heritage-henley-course/
END:VEVENT
BEGIN:VEVENT
DTSTART;TZID=UTC:20240916T073000
DTEND;TZID=UTC:20240916T140000
DTSTAMP:20260422T024934
CREATED:20240909T223824Z
LAST-MODIFIED:20240909T223825Z
UID:23140-1726471800-1726495200@www.mdvetgolf.org
SUMMARY:Heritage (Henley Course)
DESCRIPTION:
URL:https://www.mdvetgolf.org/event/heritage-henley-course/
END:VEVENT
BEGIN:VEVENT
DTSTART;TZID=UTC:20240923T170000
DTEND;TZID=UTC:20240929T170000
DTSTAMP:20260422T024934
CREATED:20240919T042316Z
LAST-MODIFIED:20240919T042317Z
UID:23153-1727110800-1727629200@www.mdvetgolf.org
SUMMARY:Bookings Open Cranbourne Cup
DESCRIPTION:
URL:https://www.mdvetgolf.org/event/bookings-open-cranbourne-cup-2/
END:VEVENT
BEGIN:VEVENT
DTSTART;TZID=UTC:20240930T073000
DTEND;TZID=UTC:20240930T140000
DTSTAMP:20260422T024934
CREATED:20240919T042006Z
LAST-MODIFIED:20240919T042037Z
UID:23147-1727681400-1727704800@www.mdvetgolf.org
SUMMARY:Cranbourne Cup (Stroke/Stableford)
DESCRIPTION:
URL:https://www.mdvetgolf.org/event/cranbourne/
END:VEVENT
END:VCALENDAR