BEGIN:VCALENDAR
VERSION:2.0
PRODID:-//MDVGA - ECPv6.15.20//NONSGML v1.0//EN
CALSCALE:GREGORIAN
METHOD:PUBLISH
X-WR-CALNAME:MDVGA
X-ORIGINAL-URL:https://www.mdvetgolf.org
X-WR-CALDESC:Events for MDVGA
REFRESH-INTERVAL;VALUE=DURATION:PT1H
X-Robots-Tag:noindex
X-PUBLISHED-TTL:PT1H
BEGIN:VTIMEZONE
TZID:UTC
BEGIN:STANDARD
TZOFFSETFROM:+0000
TZOFFSETTO:+0000
TZNAME:UTC
DTSTART:20240101T000000
END:STANDARD
END:VTIMEZONE
BEGIN:VEVENT
DTSTART;TZID=UTC:20250203T073000
DTEND;TZID=UTC:20250203T170000
DTSTAMP:20260421T130820
CREATED:20250109T094436Z
LAST-MODIFIED:20250109T094437Z
UID:23276-1738567800-1738602000@www.mdvetgolf.org
SUMMARY:1st Game 2025 - Gardiners Run
DESCRIPTION:
URL:https://www.mdvetgolf.org/event/1st-game-2025-gardiners-run/
LOCATION:Gardiners Run golf course\, 130-132 Victoria Rd\, Lilydale\, Vic\, 3140\, Australia
END:VEVENT
BEGIN:VEVENT
DTSTART;TZID=UTC:20250217T073000
DTEND;TZID=UTC:20250217T140000
DTSTAMP:20260421T130820
CREATED:20250206T032343Z
LAST-MODIFIED:20250206T032344Z
UID:23590-1739777400-1739800800@www.mdvetgolf.org
SUMMARY:Heritage - St Johns Course
DESCRIPTION:
URL:https://www.mdvetgolf.org/event/heritage-st-johns-course/
END:VEVENT
BEGIN:VEVENT
DTSTART;TZID=UTC:20250224T120000
DTEND;TZID=UTC:20250224T190000
DTSTAMP:20260421T130820
CREATED:20250218T020804Z
LAST-MODIFIED:20250218T020805Z
UID:23615-1740398400-1740423600@www.mdvetgolf.org
SUMMARY:OneGolf system update
DESCRIPTION:The OneGolf system update\, including a new website interface and a free app for members\, will be available to your club on Monday\, 24 February 2025\, in the afternoon. The system will be offline for approximately 2 – 3 minutes during the update. No action is required\, member login details remain unchanged\, and competitions and the MiScore app will not be affected.
URL:https://www.mdvetgolf.org/event/onegolf-system-update/
END:VEVENT
END:VCALENDAR